BEGIN:VCALENDAR
BEGIN:VEVENT
CLASS:PUBLIC
CREATED:20260423T122715
DESCRIPTION:Un resumen general de los derechos y protecciones bajo la ley IDEA y la Sección 504 de la Ley de Rehabilitación Vocacional, el valor del mantenimiento de archivos, el proceso de evaluación, líneas de tiempo y otros componentes legales del IEP, incluyendo metas y objetivos. Técnicas de comunicación son entremezcladas a lo largo del taller.

Este taller se llevará a cabo utilizando Zoom. Después de registrarse, recibirá una invitación para unirse a la reunión de Zoom.
DTEND:20201118T110000
DTSTAMP:20260423T122715
DTSTART:20201118T100000
LAST-MODIFIED:20091109T101015Z
LOCATION:(Online, with Magnolia Park FRC), , , , 
SUMMARY;LANGUAGE=en-us:Navegando IEPs WEBINAR
BEGIN:VALARM
TRIGGER:-PT1440M
ACTION:DISPLAY
DESCRIPTION:Reminder
END:VALARM
END:VEVENT
END:VCALENDAR
