BEGIN:VCALENDAR
BEGIN:VEVENT
CLASS:PUBLIC
CREATED:20260423T122522
DESCRIPTION:Does the special education process seem overwhelming and confusing? Does it seem even more difficult to navigate during distance learning? Come join us to learn about the special education process, what school may look like when your child returns to on campus education, and tips to help you successfully navigate special education during COVID-19.

This workshop will be conducted in partnership with Magnolia Park FRC using Zoom. After registering, you will receive an invitation to join the Zoom meeting.
DTEND:20201021T193000
DTSTAMP:20260423T122522
DTSTART:20201021T180000
LAST-MODIFIED:20091109T101015Z
LOCATION:(ONLINE, in partnership with Magnolia Park FRC), , , , 
SUMMARY;LANGUAGE=en-us:Navigating Distance Learning During COVID-19 WEBINAR
BEGIN:VALARM
TRIGGER:-PT1440M
ACTION:DISPLAY
DESCRIPTION:Reminder
END:VALARM
END:VEVENT
END:VCALENDAR
