BEGIN:VCALENDAR
BEGIN:VEVENT
CLASS:PUBLIC
CREATED:20260423T123017
DESCRIPTION:Acompáñenos a aprender sobre las diferentes aplicaciones que se centran en las habilidades visuales y auditivas, como la correspondencia, el seguimiento de instrucciones, el procesamiento y la memoria. Las aplicaciones mostradas serán tanto educativas como entretenidas. ¡Venga y repase sus habilidades visuales y auditivas junto con nosotros!

Este taller se llevará a cabo utilizando Zoom. Después de registrarse, recibirá una invitación para unirse a la reunión de Zoom.
DTEND:20201102T171500
DTSTAMP:20260423T123017
DTSTART:20201102T160000
LAST-MODIFIED:20091109T101015Z
LOCATION:(ONLINE, con FFREC), , , , 
SUMMARY;LANGUAGE=en-us:¡Hay una aplicación para eso! – Aplicaciones de Habilidades Auditivas y Visuales WEBINAR
BEGIN:VALARM
TRIGGER:-PT1440M
ACTION:DISPLAY
DESCRIPTION:Reminder
END:VALARM
END:VEVENT
END:VCALENDAR
