BEGIN:VCALENDAR
BEGIN:VEVENT
CLASS:PUBLIC
CREATED:20260423T122143
DESCRIPTION:Grab your lunch and join us for a series of quickly paced webinars. Each one focuses on apps in a different subject area. Register for one, two or all. It’s up to you! All apps shown are for iOS devices. Many include apps for Android devices as well.

Spelling and phonics are critical skills that lead to reading and writing fluency. During our time together, we will demonstrate apps that work on both spelling and phonics.

This workshop will be conducted using Zoom. After registering, you will receive an invitation to join the Zoom meeting.
DTEND:20201023T130000
DTSTAMP:20260423T122143
DTSTART:20201023T120000
LAST-MODIFIED:20091109T101015Z
LOCATION:(ONLINE), , , , 
SUMMARY;LANGUAGE=en-us:Lunchtime Learning with Laura and Liz: There's an App for That! Spelling and Phonics
BEGIN:VALARM
TRIGGER:-PT1440M
ACTION:DISPLAY
DESCRIPTION:Reminder
END:VALARM
END:VEVENT
END:VCALENDAR
