BEGIN:VCALENDAR
BEGIN:VEVENT
CLASS:PUBLIC
CREATED:20260423T122542
DESCRIPTION:Join us and learn about different apps that focus on visual and auditory skills such as matching, following directions, processing and memory. The apps shown will be both educational and entertaining. Come brush up on your visual and auditory skills along with us!

This workshop will be conducted in partnership with the Family Focus Resource Center using Zoom. After registering, you will receive an invitation to join the Zoom meeting.
DTEND:20201008T181500
DTSTAMP:20260423T122542
DTSTART:20201008T170000
LAST-MODIFIED:20091109T101015Z
LOCATION:(ONLINE, in partnership with Family Focus Resource Center), , , , 
SUMMARY;LANGUAGE=en-us:There's an App for That: Apps for Auditory and Visual Skills WEBINAR
BEGIN:VALARM
TRIGGER:-PT1440M
ACTION:DISPLAY
DESCRIPTION:Reminder
END:VALARM
END:VEVENT
END:VCALENDAR
