BEGIN:VCALENDAR
BEGIN:VEVENT
CLASS:PUBLIC
CREATED:20260423T140722
DESCRIPTION:Do the IFSP and IEP processes seem overwhelming and confusing? Join us to learn about Early Intervention and Special Education, the terminology that is used during meetings and in IFSP/IEP documents, and tips to help you successfully navigate each system.

This workshop is geared for parents of children up to six years of age.

This workshop will be conducted using Zoom. After registering, you will receive an invitation to join the Zoom meeting.
DTEND:20200930T193000
DTSTAMP:20260423T140722
DTSTART:20200930T180000
LAST-MODIFIED:20091109T101015Z
LOCATION:(ONLINE), , , , 
SUMMARY;LANGUAGE=en-us:Navigating Early Intervention and Special Education WEBINAR
BEGIN:VALARM
TRIGGER:-PT1440M
ACTION:DISPLAY
DESCRIPTION:Reminder
END:VALARM
END:VEVENT
END:VCALENDAR
