BEGIN:VCALENDAR
BEGIN:VEVENT
CLASS:PUBLIC
CREATED:20260423T123304
DESCRIPTION:Does the IEP process seem overwhelming and confusing? This workshop will help guide you through the process, introduce you to special education terminology, and provide you with tools to help you successfully navigate special education.

This workshop will be conducted in partnership with Parents\' Place using Zoom. After registering, you will receive an invitation to join the Zoom meeting.
DTEND:20201013T150000
DTSTAMP:20260423T123304
DTSTART:20201013T140000
LAST-MODIFIED:20091109T101015Z
LOCATION:(ONLINE, in partnership with Parents' Place), , , , 
SUMMARY;LANGUAGE=en-us:Navigating IEPs WEBINAR
BEGIN:VALARM
TRIGGER:-PT1440M
ACTION:DISPLAY
DESCRIPTION:Reminder
END:VALARM
END:VEVENT
END:VCALENDAR
