BEGIN:VCALENDAR
BEGIN:VEVENT
CLASS:PUBLIC
CREATED:20260423T121809
DESCRIPTION:Tome su almuerzo y acompáñenos a una serie de seminarios web de ritmo rápido. Cada uno se enfoca en aplicaciones en diferentes áreas temáticas. Regístrese para uno, dos o todos. ¡Usted decide! Todas las aplicaciones que se muestran son para dispositivos iOS. Muchos incluyen aplicaciones para dispositivos Android también.

Acompáñenos a aprender sobre las diferentes aplicaciones que se centran en las habilidades visuales y auditivas, como la correspondencia, el seguimiento de instrucciones, el procesamiento y la memoria. Las aplicaciones mostradas serán tanto educativas como entretenidas. ¡Venga y repase sus habilidades visuales y auditivas junto con nosotros!

Este taller se llevará a cabo utilizando Zoom. Después de registrarse, recibirá una invitación para unirse a la reunión de Zoom.
DTEND:20201001T200000
DTSTAMP:20260423T121809
DTSTART:20201001T183000
LAST-MODIFIED:20091109T101015Z
LOCATION:ONLINE (con DSA), , , , 
SUMMARY;LANGUAGE=en-us:Aprendiendo con Liz ¡Hay una aplicación para eso! - Habilidades Auditivas y Visuales WEBINAR
BEGIN:VALARM
TRIGGER:-PT1440M
ACTION:DISPLAY
DESCRIPTION:Reminder
END:VALARM
END:VEVENT
END:VCALENDAR
