BEGIN:VCALENDAR
BEGIN:VEVENT
CLASS:PUBLIC
CREATED:20260423T140813
DESCRIPTION:This workshop provides an overview of the importance of parent input and ways to ensure that all the child’s needs are being considered when determining appropriate services and placement options.

This workshop will be conducted in partnership with Parents\' Place using Zoom. After registering, you will receive an invitation to join the Zoom meeting.
DTEND:20200922T110000
DTSTAMP:20260423T140813
DTSTART:20200922T093000
LAST-MODIFIED:20091109T101015Z
LOCATION:(ONLINE, in partnership with Parents' Place), , , , 
SUMMARY;LANGUAGE=en-us:Assessment Process WEBINAR
BEGIN:VALARM
TRIGGER:-PT1440M
ACTION:DISPLAY
DESCRIPTION:Reminder
END:VALARM
END:VEVENT
END:VCALENDAR
