BEGIN:VCALENDAR
BEGIN:VEVENT
CLASS:PUBLIC
CREATED:20260423T140718
DESCRIPTION:Come join us to learn about recovery services, what they are, and how you can work with the district to determine if your child\'s regression requires recovery services.

This workshop will be conducted using Zoom. After registering, you will receive an invitation to join the Zoom meeting.
DTEND:20200827T193000
DTSTAMP:20260423T140718
DTSTART:20200827T180000
LAST-MODIFIED:20091109T101015Z
LOCATION:(ONLINE), , , , 
SUMMARY;LANGUAGE=en-us:Special Education and Distance Learning: Recovery Services and Compensatory Education WEBINAR
BEGIN:VALARM
TRIGGER:-PT1440M
ACTION:DISPLAY
DESCRIPTION:Reminder
END:VALARM
END:VEVENT
END:VCALENDAR
