BEGIN:VCALENDAR
BEGIN:VEVENT
CLASS:PUBLIC
CREATED:20260423T140947
DESCRIPTION:Come join us to learn how to self advocate for accommodations in the workplace. We will cover the importance of disability awareness, self-advocacy, disability disclosure and how to request accommodations in the workplace.

This workshop will be conducted in partnership with the Epilepsy Foundation using Zoom. After registering, you will receive an invitation to join the Zoom meeting.
DTEND:20200812T190000
DTSTAMP:20260423T140947
DTSTART:20200812T180000
LAST-MODIFIED:20091109T101015Z
LOCATION:(ONLINE, in partnership with the Epilepsy Foundation), , , , 
SUMMARY;LANGUAGE=en-us:Disability Awareness and Self-Advocacy in the Workplace WEBINAR
BEGIN:VALARM
TRIGGER:-PT1440M
ACTION:DISPLAY
DESCRIPTION:Reminder
END:VALARM
END:VEVENT
END:VCALENDAR
