BEGIN:VCALENDAR
BEGIN:VEVENT
CLASS:PUBLIC
CREATED:20260423T141952
DESCRIPTION:During distance learning, many students are experiencing some type of regression. Have you wondered what the difference is between regression and significant regression? If your child is experiencing either, come join us to learn how you can work with schools and the IEP team to address these concerns.

This workshop will be conducted using Zoom. After registering, you will receive an invitation to join the Zoom meeting.
DTEND:20200820T193000
DTSTAMP:20260423T141952
DTSTART:20200820T180000
LAST-MODIFIED:20091109T101015Z
LOCATION:(ONLINE), , , , 
SUMMARY;LANGUAGE=en-us:Special Education and Distance Learning: Regression During Distance Learning WEBINAR
BEGIN:VALARM
TRIGGER:-PT1440M
ACTION:DISPLAY
DESCRIPTION:Reminder
END:VALARM
END:VEVENT
END:VCALENDAR
