BEGIN:VCALENDAR
BEGIN:VEVENT
CLASS:PUBLIC
CREATED:20260423T142842
DESCRIPTION:Does the special education process seem overwhelming and confusing? Does it seem even more uncertain now that schools have closed? This webinar will help guide you through the special education process, help you understand what school may look like for your child in the upcoming school year, and provide you with tools to help you successfully navigate special education during COVID-19.

This workshop will be conducted in partnership with the Epilepsy Foundation using Zoom. After registering, you will receive an invitation to join the Zoom meeting.
DTEND:20200813T193000
DTSTAMP:20260423T142842
DTSTART:20200813T180000
LAST-MODIFIED:20091109T101015Z
LOCATION:(ONLINE, in partnership with the Epilepsy Foundation), , , , 
SUMMARY;LANGUAGE=en-us:Special Education and Distance Learning: Navigating Distance Learning During COVID-19 WEBINAR
BEGIN:VALARM
TRIGGER:-PT1440M
ACTION:DISPLAY
DESCRIPTION:Reminder
END:VALARM
END:VEVENT
END:VCALENDAR
