BEGIN:VCALENDAR
BEGIN:VEVENT
CLASS:PUBLIC
CREATED:20260423T140718
DESCRIPTION:Learn strategies to help you as you work with your child to access special education and remote instruction. Parents of children with disabilities will share how they have coped with distance learning. An educational therapist will share tips to help you support your child during this upcoming school year.

Speakers:

Kathy Daigle, Parent
Angie Escobar, Parent
Dr. Ariel Eckfeld, Licensed Clinical Psychologist, Mind Health Institute - Laguna Beach.

This workshop will be conducted in partnership with the Epilepsy Foundation using Zoom. After registering, you will receive an invitation to join the Zoom meeting.
DTEND:20200806T193000
DTSTAMP:20260423T140718
DTSTART:20200806T180000
LAST-MODIFIED:20091109T101015Z
LOCATION:(ONLINE, in partnership with the Epilepsy Foundation), , , , 
SUMMARY;LANGUAGE=en-us:Special Education and Distance Learning: Tips and Tricks to Support Your Children WEBINAR
BEGIN:VALARM
TRIGGER:-PT1440M
ACTION:DISPLAY
DESCRIPTION:Reminder
END:VALARM
END:VEVENT
END:VCALENDAR
