BEGIN:VCALENDAR
BEGIN:VEVENT
CLASS:PUBLIC
CREATED:20260423T122714
DESCRIPTION:Does the IEP process seem overwhelming and confusing? This workshop will help guide you through the process, introduce you to special education terminology, and provide you with tools to help you successfully navigate special education.

This workshop will be conducted in partnership with the Family Focus Resource Center using Zoom. After registering, you will receive an invitation to join the Zoom meeting.
DTEND:20201028T160000
DTSTAMP:20260423T122714
DTSTART:20201028T150000
LAST-MODIFIED:20091109T101015Z
LOCATION:(ONLINE, with Family Focus Resource Center), , , , 
SUMMARY;LANGUAGE=en-us:Navigating IEPs WEBINAR
BEGIN:VALARM
TRIGGER:-PT1440M
ACTION:DISPLAY
DESCRIPTION:Reminder
END:VALARM
END:VEVENT
END:VCALENDAR
