BEGIN:VCALENDAR
BEGIN:VEVENT
CLASS:PUBLIC
CREATED:20260423T121624
DESCRIPTION:This workshop provides a detailed overview of early intervention and transition services at age three to families and professionals who serve infants and toddlers with disabilities. It also includes information about procedural safeguards and tips and pointers for a successful transition.

This workshop will be conducted in partnership with the Family Focus Resource Center using Zoom. After registering, you will receive an invitation to join the Zoom meeting.
DTEND:20201007T160000
DTSTAMP:20260423T121624
DTSTART:20201007T150000
LAST-MODIFIED:20091109T101015Z
LOCATION:(ONLINE, with Family Focus Resource Center), , , , 
SUMMARY;LANGUAGE=en-us:Early Intervention and Transition Services at Age Three WEBINAR
BEGIN:VALARM
TRIGGER:-PT1440M
ACTION:DISPLAY
DESCRIPTION:Reminder
END:VALARM
END:VEVENT
END:VCALENDAR
