BEGIN:VCALENDAR
BEGIN:VEVENT
CLASS:PUBLIC
CREATED:20260423T142255
DESCRIPTION:Focuses on the development of the Individual Transition Plan and the transition process from school to adult services. Explains other system criteria and application processes, i.e. Social Security Administration, Department of Rehabilitation and Regional Center. Discusses supports for the individual to live independently and productively within the community. Positive communication techniques are interspersed throughout the workshop.

This workshop will be conducted in partnership with the Family Focus Resource Center using Zoom. After registering, you will receive an invitation to join the Zoom meeting.
DTEND:20200916T160000
DTSTAMP:20260423T142255
DTSTART:20200916T150000
LAST-MODIFIED:20091109T101015Z
LOCATION:(ONLINE, via the Family Focus Resource Center), , , , 
SUMMARY;LANGUAGE=en-us:Transition to Adult Services WEBINAR
BEGIN:VALARM
TRIGGER:-PT1440M
ACTION:DISPLAY
DESCRIPTION:Reminder
END:VALARM
END:VEVENT
END:VCALENDAR
