BEGIN:VCALENDAR
BEGIN:VEVENT
CLASS:PUBLIC
CREATED:20260423T152927
DESCRIPTION:Este taller ofrece una descripción detallada de intervención temprana y de los servicios de transición a los tres años a las familias y los profesionales que trabajan con bebés y niños pequeños con discapacidades. También incluye información sobre garantías procesales y puntos y sugerencias para una transición exitosa.

Este taller se llevará a cabo utilizando Zoom. Después de registrarse, recibirá una invitación para unirse a la reunión de Zoom. Para registrarse, favor de llamar Parents\' Place a (626) 919-1091. 
DTEND:20200714T113000
DTSTAMP:20260423T152927
DTSTART:20200714T093000
LAST-MODIFIED:20091109T101015Z
LOCATION:(ONLINE, con Parents' Place), , , , 
SUMMARY;LANGUAGE=en-us:Intervención Temprana y Servicios de Transición WEBINAR
BEGIN:VALARM
TRIGGER:-PT1440M
ACTION:DISPLAY
DESCRIPTION:Reminder
END:VALARM
END:VEVENT
END:VCALENDAR
