BEGIN:VCALENDAR
BEGIN:VEVENT
CLASS:PUBLIC
CREATED:20260423T123218
DESCRIPTION:Tome su almuerzo y acompáñenos a una serie de seminarios web de ritmo rápido. Cada uno se enfoca en aplicaciones en diferentes áreas temáticas. Regístrese para uno, dos o todos. ¡Usted decide! Todas las aplicaciones que se muestran son para dispositivos iOS. Muchos incluyen aplicaciones para dispositivos Android también.

¿Conoce a alguien que tiene dificultad con la escritura? En este seminario web, demostraremos aplicaciones para escritura a mano, predicción de palabras, gramática y corrección ortográfica, así como algunas herramientas excelentes que pueden ayudarlo a completar formularios y tareas. Se mostrarán aplicaciones para la escuela primaria y secundaria.

Este taller se llevará a cabo utilizando Zoom. Después de registrarse, recibirá una invitación para unirse a la reunión de Zoom.
DTEND:20201013T124500
DTSTAMP:20260423T123218
DTSTART:20201013T120000
LAST-MODIFIED:20091109T101015Z
LOCATION:(ONLINE), , , , 
SUMMARY;LANGUAGE=en-us:Aprendiendo con Liz ¡Hay una aplicación para eso! - Aplicaciones de Escritura WEBINAR
BEGIN:VALARM
TRIGGER:-PT1440M
ACTION:DISPLAY
DESCRIPTION:Reminder
END:VALARM
END:VEVENT
END:VCALENDAR
