BEGIN:VCALENDAR
BEGIN:VEVENT
CLASS:PUBLIC
CREATED:20260423T141956
DESCRIPTION:Tome su almuerzo y acompáñenos a una serie de seminarios web de ritmo rápido. Cada uno se enfoca en aplicaciones en diferentes áreas temáticas. Regístrese para uno, dos o todos. ¡Usted decide! Todas las aplicaciones que se muestran son para dispositivos iOS. Muchos incluyen aplicaciones para dispositivos Android también.

¡Hay tantas aplicaciones de lectura por ahí! Mostraremos algunas de las que creemos que valen la pena y son educativas, así como algunas herramientas de lectura súper útiles. Las categorías incluyen comprensión, fluidez, decodificación y más. Las aplicaciones que se muestran serán para edades que van desde la primaria hasta la secundaria y más allá.

Este taller se llevará a cabo utilizando Zoom. Después de registrarse, recibirá una invitación para unirse a la reunión de Zoom.
DTEND:20200928T124500
DTSTAMP:20260423T141956
DTSTART:20200928T120000
LAST-MODIFIED:20091109T101015Z
LOCATION:(ONLINE), , , , 
SUMMARY;LANGUAGE=en-us:Aprendiendo con Liz ¡Hay una aplicación para eso! - Aplicaciones de Lectura WEBINAR
BEGIN:VALARM
TRIGGER:-PT1440M
ACTION:DISPLAY
DESCRIPTION:Reminder
END:VALARM
END:VEVENT
END:VCALENDAR
