BEGIN:VCALENDAR
BEGIN:VEVENT
CLASS:PUBLIC
CREATED:20260423T142343
DESCRIPTION:Tome su almuerzo y acompáñenos a una serie de seminarios web de ritmo rápido. Cada uno se enfoca en aplicaciones en diferentes áreas temáticas. Regístrese para uno, dos o todos. ¡Usted decide! Todas las aplicaciones que se muestran son para dispositivos iOS. Muchos incluyen aplicaciones para dispositivos Android también.

¡Aquí en TASK tenemos más de 3300 aplicaciones de iOS! ¡Durante este seminario web, le mostraremos algunas de nuestras aplicaciones favoritas que son simplemente DIVERTIDAS! Por supuesto, muchas de ellas pueden considerarse útiles para habilidades tales como motricidad fina, arte, habilidades para la vida y más, pero, sinceramente, estas son simplemente aplicaciones que encontramos realmente entretenidas y agradables para niños y adultos.

Este taller se llevará a cabo utilizando Zoom. Después de registrarse, recibirá una invitación para unirse a la reunión de Zoom.
DTEND:20200914T124500
DTSTAMP:20260423T142343
DTSTART:20200914T120000
LAST-MODIFIED:20091109T101015Z
LOCATION:(ONLINE), , , , 
SUMMARY;LANGUAGE=en-us:Aprendiendo con Liz ¡Hay una aplicación para eso! - Aplicaciones Divertidas Favoritas! WEBINAR
BEGIN:VALARM
TRIGGER:-PT1440M
ACTION:DISPLAY
DESCRIPTION:Reminder
END:VALARM
END:VEVENT
END:VCALENDAR
