BEGIN:VCALENDAR
BEGIN:VEVENT
CLASS:PUBLIC
CREATED:20260423T142242
DESCRIPTION:Tome su almuerzo y acompáñenos a una serie de seminarios web de ritmo rápido. Cada uno se enfoca en aplicaciones en diferentes áreas temáticas. Regístrese para uno, dos o todos. ¡Usted decide! Todas las aplicaciones que se muestran son para dispositivos iOS. Muchos incluyen aplicaciones para dispositivos Android también.

Demostramos aplicaciones que facilitan el aprendizaje temprano para niños pequeños con necesidades especiales, de 0 a 5 años. ¡Las aplicaciones incluirán conceptos preescolares, alfabetización temprana, habilidades de motricidad fina y más! ¡Acompáñenos a un seminario web lleno de diversión y ritmo rápido!

Este taller se llevará a cabo utilizando Zoom. Después de registrarse, recibirá una invitación para unirse a la reunión de Zoom.
DTEND:20200803T124500
DTSTAMP:20260423T142242
DTSTART:20200803T120000
LAST-MODIFIED:20091109T101015Z
LOCATION:(ONLINE), , , , 
SUMMARY;LANGUAGE=en-us:Aprendiendo con Liz ¡Hay una aplicación para eso! - Aprendizaje Temprano WEBINAR
BEGIN:VALARM
TRIGGER:-PT1440M
ACTION:DISPLAY
DESCRIPTION:Reminder
END:VALARM
END:VEVENT
END:VCALENDAR
