BEGIN:VCALENDAR
BEGIN:VEVENT
CLASS:PUBLIC
CREATED:20260423T153018
DESCRIPTION:Tome su almuerzo y acompáñenos a una serie de seminarios web de ritmo rápido. Cada uno se enfoca en aplicaciones en diferentes áreas temáticas. Regístrese para uno, dos o todos. ¡Usted decide! Todas las aplicaciones que se muestran son para dispositivos iOS. Muchos incluyen aplicaciones para dispositivos Android también.

¿Están sus hijos frustrados por las matemáticas? ¿Está buscando nuevas formas de enseñar o practicar conceptos? Demostraremos más de una docena de aplicaciones de matemáticas orientadas a la matemática temprana, primaria, intermedia y secundaria.

Este taller se llevará a cabo utilizando Zoom. Después de registrarse, recibirá una invitación para unirse a la reunión de Zoom.
DTEND:20200720T124500
DTSTAMP:20260423T153018
DTSTART:20200720T120000
LAST-MODIFIED:20091109T101015Z
LOCATION:(ONLINE), , , , 
SUMMARY;LANGUAGE=en-us:Aprendiendo con Liz ¡Hay una aplicación para eso! - Aplicaciones Maravillosas de Matemáticas WEBINAR
BEGIN:VALARM
TRIGGER:-PT1440M
ACTION:DISPLAY
DESCRIPTION:Reminder
END:VALARM
END:VEVENT
END:VCALENDAR
