BEGIN:VCALENDAR
BEGIN:VEVENT
CLASS:PUBLIC
CREATED:20260423T141503
DESCRIPTION:Grab your lunch and join us for a series of quickly paced webinars. Each one focuses on apps in a different subject area. Register for one, two or all. It’s up to you! All apps shown are for iOS devices. Many include apps for Android devices as well.

There are so many reading apps out there! We will demonstrate some of the ones that we think are worthwhile and educational, as well as some super helpful reading tools. Categories include comprehension, fluency, decoding and more. Apps shown will be for ages ranging from elementary through high school and beyond.

This workshop will be conducted using Zoom. After registering, you will receive an invitation to join the Zoom meeting.
DTEND:20200925T124500
DTSTAMP:20260423T141503
DTSTART:20200925T120000
LAST-MODIFIED:20091109T101015Z
LOCATION:(ONLINE), , , , 
SUMMARY;LANGUAGE=en-us:Lunchtime Learning with Laura and Liz: There’s an App for That! - Reading Apps WEBINAR
BEGIN:VALARM
TRIGGER:-PT1440M
ACTION:DISPLAY
DESCRIPTION:Reminder
END:VALARM
END:VEVENT
END:VCALENDAR
