BEGIN:VCALENDAR
BEGIN:VEVENT
CLASS:PUBLIC
CREATED:20260423T141718
DESCRIPTION:Grab your lunch and join us for a series of quickly paced webinars. Each one focuses on apps in a different subject area. Register for one, two or all. It’s up to you! All apps shown are for iOS devices. Many include apps for Android devices as well.

Join us and learn about different apps that focus on visual and auditory skills such as matching, following directions, processing and memory. The apps shown will be both educational and entertaining. Come brush up on your visual and auditory skills along with us!

This workshop will be conducted using Zoom. After registering, you will receive an invitation to join the Zoom meeting.
DTEND:20200828T124500
DTSTAMP:20260423T141718
DTSTART:20200828T120000
LAST-MODIFIED:20091109T101015Z
LOCATION:(ONLINE), , , , 
SUMMARY;LANGUAGE=en-us:Lunchtime Learning with Laura and Liz: There’s an App for That! - Auditory & Visual Skills WEBINAR
BEGIN:VALARM
TRIGGER:-PT1440M
ACTION:DISPLAY
DESCRIPTION:Reminder
END:VALARM
END:VEVENT
END:VCALENDAR
