BEGIN:VCALENDAR
BEGIN:VEVENT
CLASS:PUBLIC
CREATED:20260423T140644
DESCRIPTION:Grab your lunch and join us for a series of quickly paced webinars. Each one focuses on apps in a different subject area. Register for one, two or all. It’s up to you! All apps shown are for iOS devices. Many include apps for Android devices as well.

Many kiddos (and adults) struggle with social and life skills. Join this session, in which we will demonstrate apps that can help  with these skills. App focus will include: personal grooming, household chores, telling time, dialing 911, social skills and more. Apps for various ages will be shown.

This workshop will be conducted using Zoom. After registering, you will receive an invitation to join the Zoom meeting.
DTEND:20200814T124500
DTSTAMP:20260423T140644
DTSTART:20200814T120000
LAST-MODIFIED:20091109T101015Z
LOCATION:(ONLINE), , , , 
SUMMARY;LANGUAGE=en-us:Lunchtime Learning with Laura and Liz: There’s an App for That! - Social & Life Skills Apps WEBINAR
BEGIN:VALARM
TRIGGER:-PT1440M
ACTION:DISPLAY
DESCRIPTION:Reminder
END:VALARM
END:VEVENT
END:VCALENDAR
