BEGIN:VCALENDAR
BEGIN:VEVENT
CLASS:PUBLIC
CREATED:20260423T153032
DESCRIPTION:Grab your lunch and join us for a series of quickly paced webinars. Each one focuses on apps in a different subject area. Register for one, two or all. It’s up to you! All apps shown are for iOS devices. Many include apps for Android devices as well.

Are your kiddos frustrated by math? Are you looking for new ways to teach or practice concepts? Join us as we share over a dozen math apps geared toward early math, elementary, middle and high school.

This workshop will be conducted using Zoom. After registering, you will receive an invitation to join the Zoom meeting.
DTEND:20200717T124500
DTSTAMP:20260423T153032
DTSTART:20200717T120000
LAST-MODIFIED:20091109T101015Z
LOCATION:(ONLINE), , , , 
SUMMARY;LANGUAGE=en-us:Lunchtime Learning with Laura and Liz: There’s an App for That! - Marvelous Math Apps WEBINAR
BEGIN:VALARM
TRIGGER:-PT1440M
ACTION:DISPLAY
DESCRIPTION:Reminder
END:VALARM
END:VEVENT
END:VCALENDAR
