BEGIN:VCALENDAR
BEGIN:VEVENT
CLASS:PUBLIC
CREATED:20260423T153033
DESCRIPTION:Do the IFSP and IEP processes seem overwhelming and confusing? This workshop will help guide you through the processes, introduce you to Early Intervention and special education terminology, and provide you with tools to help you successfully navigate each system.

This workshop will be conducted using Zoom in partnership with Braille Institute. After registering, you will receive an invitation to join the Zoom meeting.
DTEND:20200722T173000
DTSTAMP:20260423T153033
DTSTART:20200722T160000
LAST-MODIFIED:20091109T101015Z
LOCATION:(ONLINE in cooperation with Braille Institute), , , , 
SUMMARY;LANGUAGE=en-us:Navigating Early Intervention and Special Education WEBINAR
BEGIN:VALARM
TRIGGER:-PT1440M
ACTION:DISPLAY
DESCRIPTION:Reminder
END:VALARM
END:VEVENT
END:VCALENDAR
