BEGIN:VCALENDAR
BEGIN:VEVENT
CLASS:PUBLIC
CREATED:20260423T152925
DESCRIPTION:Parece el proceso de especial educación abrumador y confuso?

Parece aún más incierto ahora que las escuelas han cerrado?

Este seminario web lo guiará a través del proceso de educación especial, le presentará la terminología y le proporcionará herramientas para ayudarlo a navegar con éxito la educación especial durante la pandemia COVID-19.

También aprenda sobre recursos de PTC Therapeutics para padres de Distrofia Muscular de Duchenne (DMD).

Panelistas:

Luisamaria Castillo, Family Support Specialist (TASK)
Aurora Flores, Associate Director, US Patient Engagement (PTC Therapeutics)

El taller será vía Zoom, se requiere registro.
DTEND:20200611T120000
DTSTAMP:20260423T152925
DTSTART:20200611T100000
LAST-MODIFIED:20091109T101015Z
LOCATION:498, , , , 
SUMMARY;LANGUAGE=en-us:Navegando Educación Especial Durante COVID-19 WEBINAR
BEGIN:VALARM
TRIGGER:-PT1440M
ACTION:DISPLAY
DESCRIPTION:Reminder
END:VALARM
END:VEVENT
END:VCALENDAR
