BEGIN:VCALENDAR
BEGIN:VEVENT
CLASS:PUBLIC
CREATED:20260423T164912
DESCRIPTION:Part 2 of our Let’s Talk Low Tech AAC series includes implementation strategies, ideas, tips and tricks and key terms. We will briefly introduce different communication layouts like PODD (Pragmatic Organization Dynamic Display) and LAMP (Language Access through Motor Planning) as well as other options. Core and fringe vocabulary, PECS and Aided Language Support will also be discussed. Join us for a fun webinar and learn to think outside the AAC box!

This workshop will be conducted using Zoom. After registering, you will receive an invitation to join the Zoom meeting.
DTEND:20200527T113000
DTSTAMP:20260423T164912
DTSTART:20200527T100000
LAST-MODIFIED:20091109T101015Z
LOCATION:(Online, via Zoom), , , , 
SUMMARY;LANGUAGE=en-us:Let's Talk Low Tech 2: AAC Thinking Outside the Box WEBINAR
BEGIN:VALARM
TRIGGER:-PT1440M
ACTION:DISPLAY
DESCRIPTION:Reminder
END:VALARM
END:VEVENT
END:VCALENDAR
