BEGIN:VCALENDAR
BEGIN:VEVENT
CLASS:PUBLIC
CREATED:20260423T164647
DESCRIPTION:This online workshop is for youth who are facing challenges during COVID-19 school closures. Participants will learn about concerns faced by their peers related to school closures, cyberbullying and mental health, as well as strategies and resources for coping. Parents, please join us! We will also be providing strategies to help you help your teens.
DTEND:20200430T200000
DTSTAMP:20260423T164647
DTSTART:20200430T183000
LAST-MODIFIED:20091109T101015Z
LOCATION:, , , , 
SUMMARY;LANGUAGE=en-us:Youth Voices Matter: COVID-19 Challenges WEBINAR
BEGIN:VALARM
TRIGGER:-PT1440M
ACTION:DISPLAY
DESCRIPTION:Reminder
END:VALARM
END:VEVENT
END:VCALENDAR
