BEGIN:VCALENDAR
BEGIN:VEVENT
CLASS:PUBLIC
CREATED:20260423T164754
DESCRIPTION:What is AAC? What is low tech vs. high tech? This workshop includes a thorough explanation of augmentative and alternative communication, types of low and mid tech AAC available, an explanation of various communication symbols and more. 

Handouts will include a list of free low tech AAC resources available. Join us for a fun, informative webinar learning about low and mid tech AAC!

NOTE: This online training session will be conducted on Zoom. You MUST register in order to participate.
DTEND:20200422T110000
DTSTAMP:20260423T164754
DTSTART:20200422T100000
LAST-MODIFIED:20091109T101015Z
LOCATION:, , , , 
SUMMARY;LANGUAGE=en-us:Let’s Talk Low Tech: AAC Basics - WEBINAR
BEGIN:VALARM
TRIGGER:-PT1440M
ACTION:DISPLAY
DESCRIPTION:Reminder
END:VALARM
END:VEVENT
END:VCALENDAR
