BEGIN:VCALENDAR
BEGIN:VEVENT
CLASS:PUBLIC
CREATED:20260423T165402
DESCRIPTION:Este taller cubre la información sobre las leyes en lo que se refiere a la tecnología de asistencia, el proceso de la evaluación de tecnología de asistencia, y algunas ideas para escribir la tecnología de asistencia en el IEP. También incluye una breve introducción a los distintos tipos de tecnología de asistencia disponible.
DTEND:20200424T113000
DTSTAMP:20260423T165402
DTSTART:20200424T090000
LAST-MODIFIED:20091109T101015Z
LOCATION:TASK Brea, 3040 Saturn Street, #103, Brea, CA, 92821
SUMMARY;LANGUAGE=en-us:CANCELLED - Taller Básico de Tecnología de Asistencia - BREA
BEGIN:VALARM
TRIGGER:-PT1440M
ACTION:DISPLAY
DESCRIPTION:Reminder
END:VALARM
END:VEVENT
END:VCALENDAR
