BEGIN:VCALENDAR
BEGIN:VEVENT
CLASS:PUBLIC
CREATED:20260423T165331
DESCRIPTION:Este taller cubre la información sobre las leyes en lo que se refiere a la tecnología de asistencia, el proceso de la evaluación de tecnología de asistencia, y algunas ideas para escribir la tecnología de asistencia en el IEP. También incluye una breve introducción a los distintos tipos de tecnología de asistencia disponible.
DTEND:20200418T140000
DTSTAMP:20260423T165331
DTSTART:20200418T110000
LAST-MODIFIED:20091109T101015Z
LOCATION:Cathedral City Branch Library, 33520 Date Palm Drive, Cathedral City, CA, 92234
SUMMARY;LANGUAGE=en-us:CANCELLED - Taller Básico de Tecnología de Asistencia - CATHEDRAL CITY
BEGIN:VALARM
TRIGGER:-PT1440M
ACTION:DISPLAY
DESCRIPTION:Reminder
END:VALARM
END:VEVENT
END:VCALENDAR
