BEGIN:VCALENDAR
BEGIN:VEVENT
CLASS:PUBLIC
CREATED:20260423T165330
DESCRIPTION:¿El proceso del IEP parece abrumador y confuso? Este taller lo guiará a través del proceso, lo presentará a la terminología de educación especial y le proveerá herramientas para ayudarlo a navegar con éxito la educación especial.
DTEND:20200423T140000
DTSTAMP:20260423T165330
DTSTART:20200423T120000
LAST-MODIFIED:20091109T101015Z
LOCATION:TASK San Diego, 3845 Spring Drive, Room 21, Spring Valley, CA, 91978
SUMMARY;LANGUAGE=en-us:CANCELLED - Navegando IEPs - SPRING VALLEY
BEGIN:VALARM
TRIGGER:-PT1440M
ACTION:DISPLAY
DESCRIPTION:Reminder
END:VALARM
END:VEVENT
END:VCALENDAR
