BEGIN:VCALENDAR
BEGIN:VEVENT
CLASS:PUBLIC
CREATED:20260423T164740
DESCRIPTION:¿El proceso del IEP parece abrumador y confuso? Este taller lo guiará a través del proceso, lo presentará a la terminología de educación especial y le proveerá herramientas para ayudarlo a navegar con éxito la educación especial.
DTEND:20200422T113000
DTSTAMP:20260423T164740
DTSTART:20200422T093000
LAST-MODIFIED:20091109T101015Z
LOCATION:TASK Alhambra, 1000 South Fremont Avenue, Building A1, Suite 1110, Unit 54, Alhambra, CA, 91803
SUMMARY;LANGUAGE=en-us:CANCELLED - Navegando IEPs - ALHAMBRA
BEGIN:VALARM
TRIGGER:-PT1440M
ACTION:DISPLAY
DESCRIPTION:Reminder
END:VALARM
END:VEVENT
END:VCALENDAR
