BEGIN:VCALENDAR
BEGIN:VEVENT
CLASS:PUBLIC
CREATED:20260423T165255
DESCRIPTION:Este taller ofrece una descripción general de la participación de los padres y el distrito en el proceso de evaluación de educación especial. Los asistentes al taller aprenderán sobre las leyes federales que gobiernan la educación especial y la Sección 504, el proceso de referencia y evaluación, y las opciones para resolver desacuerdos.
DTEND:20200429T110000
DTSTAMP:20260423T165255
DTSTART:20200429T093000
LAST-MODIFIED:20091109T101015Z
LOCATION:TASK Alhambra, 1000 South Fremont Avenue, Building A1, Suite 1110, Unit 54, Alhambra, CA, 91803
SUMMARY;LANGUAGE=en-us:CANCELLED - Proceso de Evaluación - ALHAMBRA
BEGIN:VALARM
TRIGGER:-PT1440M
ACTION:DISPLAY
DESCRIPTION:Reminder
END:VALARM
END:VEVENT
END:VCALENDAR
