BEGIN:VCALENDAR
BEGIN:VEVENT
CLASS:PUBLIC
CREATED:20260423T164715
DESCRIPTION:Este taller ofrece una descripción general de la participación de los padres y el distrito en el proceso de evaluación de educación especial. Los asistentes al taller aprenderán sobre las leyes federales que gobiernan la educación especial y la Sección 504, el proceso de referencia y evaluación, y las opciones para resolver desacuerdos.
DTEND:20200428T120000
DTSTAMP:20260423T164715
DTSTART:20200428T100000
LAST-MODIFIED:20091109T101015Z
LOCATION:TASK San Diego, 3845 Spring Drive, Room 21, Spring Valley, CA, 91978
SUMMARY;LANGUAGE=en-us:CANCELLED - Proceso de Evaluación - SPRING VALLEY
BEGIN:VALARM
TRIGGER:-PT1440M
ACTION:DISPLAY
DESCRIPTION:Reminder
END:VALARM
END:VEVENT
END:VCALENDAR
