BEGIN:VCALENDAR
BEGIN:VEVENT
CLASS:PUBLIC
CREATED:20260423T165403
DESCRIPTION:Es posible que haya oído hablar de la Ley de Educación para Individuos con Discapacidades (IDEA) y la Sección 504 de la Ley de Rehabilitación, pero ¿sabía que hay otras leyes de educación que le pertenecen a los estudiantes con discapacidades? Venga a este taller para obtener más información sobre estas leyes y cómo ayudan a su hijo con discapacidad a recibir educación.
DTEND:20200427T110000
DTSTAMP:20260423T165403
DTSTART:20200427T090000
LAST-MODIFIED:20091109T101015Z
LOCATION:TASK Riverside (a Community Access and Disability Center), 6848 Magnolia Avenue, Suite 150, Riverside, CA, 92506
SUMMARY;LANGUAGE=en-us:CANCELLED - Derechos Básicos y Responsabilidades - RIVERSIDE
BEGIN:VALARM
TRIGGER:-PT1440M
ACTION:DISPLAY
DESCRIPTION:Reminder
END:VALARM
END:VEVENT
END:VCALENDAR
