BEGIN:VCALENDAR
BEGIN:VEVENT
CLASS:PUBLIC
CREATED:20260423T165254
DESCRIPTION:Este taller ofrece una descripción detallada de intervención temprana y de los servicios de transición a los tres años a las familias y los profesionales que trabajan con bebés y niños pequeños con discapacidades. También incluye información sobre garantías procesales y puntos y sugerencias para una transición exitosa.
DTEND:20200414T110000
DTSTAMP:20260423T165254
DTSTART:20200414T090000
LAST-MODIFIED:20091109T101015Z
LOCATION:TASK Brea, 3040 Saturn Street, #103, Brea, CA, 92821
SUMMARY;LANGUAGE=en-us:CANCELLED - Intervención Temprana y Servicios de Transición - BREA
BEGIN:VALARM
TRIGGER:-PT1440M
ACTION:DISPLAY
DESCRIPTION:Reminder
END:VALARM
END:VEVENT
END:VCALENDAR
