BEGIN:VCALENDAR
BEGIN:VEVENT
CLASS:PUBLIC
CREATED:20260423T165300
DESCRIPTION:This workshop provides information on the laws as they pertain to assistive technology, the AT evaluation process, and some ideas for writing AT into the IEP. It also includes a brief introduction to the various types of AT available.
DTEND:20200429T120000
DTSTAMP:20260423T165300
DTSTART:20200429T090000
LAST-MODIFIED:20091109T101015Z
LOCATION:TASK Brea, 3040 Saturn Street, #103, Brea, CA, 92821
SUMMARY;LANGUAGE=en-us:CANCELLED - AT 101 - BREA
BEGIN:VALARM
TRIGGER:-PT1440M
ACTION:DISPLAY
DESCRIPTION:Reminder
END:VALARM
END:VEVENT
END:VCALENDAR
