BEGIN:VCALENDAR
BEGIN:VEVENT
CLASS:PUBLIC
CREATED:20260423T165300
DESCRIPTION:This workshop provides information on the laws as they pertain to assistive technology, the AT evaluation process, and some ideas for writing AT into the IEP. It also includes a brief introduction to the various types of AT available.
DTEND:20200407T120000
DTSTAMP:20260423T165300
DTSTART:20200407T100000
LAST-MODIFIED:20091109T101015Z
LOCATION:State Council on Developmental Disabilities, Orange County Office, 2000 East 4th Street, Suite 115, Santa Ana, CA, 92705
SUMMARY;LANGUAGE=en-us:CANCELLED - AT 101 - SANTA ANA
BEGIN:VALARM
TRIGGER:-PT1440M
ACTION:DISPLAY
DESCRIPTION:Reminder
END:VALARM
END:VEVENT
END:VCALENDAR
