BEGIN:VCALENDAR
BEGIN:VEVENT
CLASS:PUBLIC
CREATED:20260423T165148
DESCRIPTION:We will introduce applications with the following focus areas: basic concepts, language and vocabulary building, communication, social and life skills, fine motor skills and more. Join us for a fun, fast-paced session.
DTEND:20200403T120000
DTSTAMP:20260423T165148
DTSTART:20200403T090000
LAST-MODIFIED:20091109T101015Z
LOCATION:UCP San Diego Assistive Technology Center, 8665 Gibbs Drive, Suite 100, San Diego, CA, 92123
SUMMARY;LANGUAGE=en-us:CANCELLED - APPsolutely Amazing: Apps for Students with Special Needs - SAN DIEGO
BEGIN:VALARM
TRIGGER:-PT1440M
ACTION:DISPLAY
DESCRIPTION:Reminder
END:VALARM
END:VEVENT
END:VCALENDAR
