BEGIN:VCALENDAR
BEGIN:VEVENT
CLASS:PUBLIC
CREATED:20260423T164836
DESCRIPTION:Focuses on the development of the Individual Transition Plan and the transition process from school to adult services. Explains other system criteria and application processes, i.e. Social Security Administration, Department of Rehabilitation and Regional Center. Discusses supports for the individual to live independently and productively within the community. Positive communication techniques are interspersed throughout the workshop.
DTEND:20200417T110000
DTSTAMP:20260423T164836
DTSTART:20200417T093000
LAST-MODIFIED:20091109T101015Z
LOCATION:TASK Alhambra, 1000 South Fremont Avenue, Building A1, Suite 1110, Unit 54, Alhambra, CA, 91803
SUMMARY;LANGUAGE=en-us:CANCELLED - Transition to Adult Services - ALHAMBRA
BEGIN:VALARM
TRIGGER:-PT1440M
ACTION:DISPLAY
DESCRIPTION:Reminder
END:VALARM
END:VEVENT
END:VCALENDAR
