BEGIN:VCALENDAR
BEGIN:VEVENT
CLASS:PUBLIC
CREATED:20260423T165010
DESCRIPTION:Does the IEP process seem overwhelming and confusing? This workshop will help guide you through the process, introduce you to special education terminology, and provide you with tools to help you successfully navigate special education.
DTEND:20200415T113000
DTSTAMP:20260423T165010
DTSTART:20200415T093000
LAST-MODIFIED:20091109T101015Z
LOCATION:TASK Alhambra, 1000 South Fremont Avenue, Building A1, Suite 1110, Unit 54, Alhambra, CA, 91803
SUMMARY;LANGUAGE=en-us:CANCELLED - Navigating IEPs - ALHAMBRA
BEGIN:VALARM
TRIGGER:-PT1440M
ACTION:DISPLAY
DESCRIPTION:Reminder
END:VALARM
END:VEVENT
END:VCALENDAR
