BEGIN:VCALENDAR
BEGIN:VEVENT
CLASS:PUBLIC
CREATED:20260423T165300
DESCRIPTION:Does the IEP process seem overwhelming and confusing? This workshop will help guide you through the process, introduce you to special education terminology, and provide you with tools to help you successfully navigate special education.
DTEND:20200415T140000
DTSTAMP:20260423T165300
DTSTART:20200415T120000
LAST-MODIFIED:20091109T101015Z
LOCATION:TASK San Diego, 3845 Spring Drive, Room 21, Spring Valley, CA, 91978
SUMMARY;LANGUAGE=en-us:CANCELLED - Navigating IEPs - SPRING VALLEY
BEGIN:VALARM
TRIGGER:-PT1440M
ACTION:DISPLAY
DESCRIPTION:Reminder
END:VALARM
END:VEVENT
END:VCALENDAR
