BEGIN:VCALENDAR
BEGIN:VEVENT
CLASS:PUBLIC
CREATED:20260423T164836
DESCRIPTION:You may have heard of the Individuals with Disabilities Education Act (IDEA) and Section 504 of the Rehabilitation Act, but did you know that there are other education laws that pertain to students with disabilities? Come to this workshop to learn more about these laws and how they assist your child with a disability to receive education.
DTEND:20200429T110000
DTSTAMP:20260423T164836
DTSTART:20200429T090000
LAST-MODIFIED:20091109T101015Z
LOCATION:TASK Riverside (at Community Access and Disability Center), 6848 Magnolia Avenue, Suite 150, Riverside, CA, 92506
SUMMARY;LANGUAGE=en-us:CANCELLED - Basic Rights and Responsibilities - RIVERSIDE
BEGIN:VALARM
TRIGGER:-PT1440M
ACTION:DISPLAY
DESCRIPTION:Reminder
END:VALARM
END:VEVENT
END:VCALENDAR
