BEGIN:VCALENDAR
BEGIN:VEVENT
CLASS:PUBLIC
CREATED:20260423T165134
DESCRIPTION:You may have heard of the Individuals with Disabilities Education Act (IDEA) and Section 504 of the Rehabilitation Act, but did you know that there are other education laws that pertain to students with disabilities? Come to this workshop to learn more about these laws and how they assist your child with a disability to receive education.
DTEND:20200414T120000
DTSTAMP:20260423T165134
DTSTART:20200414T100000
LAST-MODIFIED:20091109T101015Z
LOCATION:TASK San Diego, 3845 Spring Drive, Room 21, Spring Valley, CA, 91978
SUMMARY;LANGUAGE=en-us:CANCELLED - Basic Rights and Responsibilities - SPRING VALLEY
BEGIN:VALARM
TRIGGER:-PT1440M
ACTION:DISPLAY
DESCRIPTION:Reminder
END:VALARM
END:VEVENT
END:VCALENDAR
