BEGIN:VCALENDAR
BEGIN:VEVENT
CLASS:PUBLIC
CREATED:20260423T165403
DESCRIPTION:This workshop provides an overview of parent and district participation in the special education assessment process. Workshop attendees will learn about the federal laws that govern special education and Section 504, the referral and assessment processes, and options for resolving disagreements.
DTEND:20200408T110000
DTSTAMP:20260423T165403
DTSTART:20200408T093000
LAST-MODIFIED:20091109T101015Z
LOCATION:TASK Alhambra, 1000 South Fremont Avenue, Building A1, Suite 1110, Unit 54, Alhambra, CA, 91803
SUMMARY;LANGUAGE=en-us:CANCELLED - Assessment Process - ALHAMBRA
BEGIN:VALARM
TRIGGER:-PT1440M
ACTION:DISPLAY
DESCRIPTION:Reminder
END:VALARM
END:VEVENT
END:VCALENDAR
