BEGIN:VCALENDAR
BEGIN:VEVENT
CLASS:PUBLIC
CREATED:20260423T210857
DESCRIPTION:This session will introduce and demonstrate iPad applications that help facilitate early learning. This will include preschool apps, early language and literacy, fine motor skills and much more. Join us for a fast-paced, fun-filled workshop.
DTEND:20200408T120000
DTSTAMP:20260423T210857
DTSTART:20200408T093000
LAST-MODIFIED:20091109T101015Z
LOCATION:Bethany Manor Development and Learning Center (at Southeast FRC), 15415 South Pioneer Boulevard, Norwalk, CA, 90650
SUMMARY;LANGUAGE=en-us:CANCELLED - APPsolute Fun: Apps for Early Learning - NORWALK
BEGIN:VALARM
TRIGGER:-PT1440M
ACTION:DISPLAY
DESCRIPTION:Reminder
END:VALARM
END:VEVENT
END:VCALENDAR
